BEGIN:VCALENDAR
VERSION:2.0
PRODID:-//Tukios.com/
BEGIN:VEVENT
UID:b6eaf96a-8ca6-435a-88e3-26c8af1c5de6@www.prairiehillsjulesburg.com
DTSTAMP:20260424T003958Z
DTSTART:20260427T163000Z
DTEND:20260427T173000Z
SUMMARY:Memorial for Daniel J. Kantor Jr.
DESCRIPTION:
URL:https://www.prairiehillsjulesburg.com/obituaries/daniel-kantor
LOCATION:Sedgwick County Community Center 102 West 6th Street  Julesburg 
	CO 80737
GEO:40.9906361;-102.2679363
END:VEVENT
END:VCALENDAR